BEGIN:VCALENDAR
VERSION:2.0
PRODID:-//Trinity Church of Portland//Events//EN
BEGIN:VEVENT
UID:1777011432625@trinityportland.org
DTSTAMP:20260424T061712Z
DTSTART:20270410T100000
DTEND:20270410T120000
SUMMARY:Ladies Brunch & Bible Study
LOCATION:Portland Campus
DESCRIPTION:Join the Ladies of Trinity for a Bible Study brunch and fellowship in the Trinity Living Room. Invite a friend, please bring a dish to share!
END:VEVENT
END:VCALENDAR