BEGIN:VCALENDAR
VERSION:2.0
PRODID:-//Trinity Church of Portland//Events//EN
BEGIN:VEVENT
UID:1777011432488@trinityportland.org
DTSTAMP:20260424T061712Z
DTSTART:20260425T080000
DTEND:20260425T123000
SUMMARY:Man Camp
LOCATION:Portland Campus
DESCRIPTION:Men of all ages, and dad's with their boys are encouraged to join on a group family-friendly hike in the Columbia River Gorge, with a cook-out l...
END:VEVENT
END:VCALENDAR